Workbook

Sheet Custo por trabalhador
A1: PLANILHA DE CUSTOS E FORMAÇÃO DE PREÇOS
A2: MODELO DE FORMAÇÃO DE CUSTO MENSAL PARA UM EMPREGADO
A3: * A planilha de custos e formação de preços é ferramenta de apoio à realização de estimativas da contratação e para a análise das propostas na fase de pregão e nas prorrogações contratuais. * O modelo disponibilizado na Instrução Normativa n° 5, de 26 de maio de 2017, é inspiracional, devendo ser adaptado pelo órgão ou entidade contratante às suas necessidades. * A presente proposta visa, tão somente, auxiliar aos órgão que não possuam um modelo definido na formatação dos cálculos de direitos trabalhistas para estimativas de contratos de prestação de serviços, observando as disposições da Consolidação das Leis do Trabalho - CLT e das Convenções Coletivas de Trabalho - CCT (sendo válidos, ainda, os acordos e dissídios coletivos). * É responsábilidade do usuário que optar pela utilização deste modelo a conferência das fórmulas automatizadas em conformidade com as dispoções de CLT e CCT, para minimizar o risco de equívocos no cômputo das previsões financeiras. * Dúvidas sobre a metodologia de cálculo poderão ser esclarecidas com a leitura dos Cadernos Técnicos de divulgação de valores limites em: https://www.comprasgovernamentais.gov.br/index.php/cadernos-tecnicos-e-valores-limites.
A5: MÓDULO 1 - REMUNERAÇÃO
A6: * A remuneração é definida no art. 457 da Consolidação das Leis do Trabalho. * É composta por Salário Base, Adicionais (noturno, de insalubridade ou periculosidade) e gratificações, quando houver.
A8: SALÁRIO BASE
A9: * O Salário Base vem definido na Convenção Coletiva de Trabalho da categoria profissional a ser contratada para o objeto da prestação de serviço. * O contratante deverá observar se a CCT abrange o município de prestação de serviço e se está vigente.
A11: SALÁRIO BASE | G11: Convenção Coletiva: | H11: PR000063/2026
A12: Cargo A - Serv. Gerais Higiene 40h | B12: =H12/44*40 -> 1727.2727 | C12: Mensal: | D12: 200 | G12: Piso Salarial - Serv. Gerais | H12: 1900
A13: Cargo B - Serv. Gerais Higiene 12x36 Diurno | B13: =H12 -> 1900 | G13: Piso Salarial - Serv. Copa, Cantina | H13: 1961
A14: Cargo C - Serv. Gerais Higiene 12x36 Noturno | B14: =H12 -> 1900 | G14: Piso Salarial - Supervisor | H14: 3023
A15: Cargo D - Copa/Cozinha 12x36 Diurno | B15: =H13 -> 1961
A16: Cargo E - Copa/Cozinha 12x36 Intermediário | B16: =H13 -> 1961
A17: Cargo F - Copa/Cozinha 12x36 Noturno | B17: =H13 -> 1961
A18: Cargo G - Copa/Cozinha 40h | B18: =H13 -> 1961
A19: Cargo H - Serv. Gerais Higiene + Copa 40h | B19: =H12/44*40 -> 1727.2727
A20: Cargo I - Supervisor UPA | B20: =H14 -> 3023
A21: Cargo J - Supervidor Demais Unidades | B21: =H14 -> 3023
A23: GRATIFICAÇÃO DE FUNÇÃO
A24: * Gratificação de função, quando houver, virá informada na Convenção Coletiva de Trabalho da categoria profissional a ser contratada. * O órgão contrantante deverá observar, além da existência de gratificação, se esta incidirá sobre os adicionais, devendo adaptar a planilha ao caso em concreto. * Para o presente modelo foi considerada gratificação como percentual sobre o salário base e sem incidência sobre os adicionais (noturno, periculosidade ou insalubridade).
A26: GRATIFICAÇÃO DE FUNÇÃO
A27: Categoria | B27: Base de cálculo | C27: Percentual | D27: Valor da Gratificação
A28: Cargo A - Serv. Gerais Higiene 40h | B28: =B12 -> 1727.2727 | C28: 0 | D28: =B28*C28 -> 0
A29: Cargo B - Serv. Gerais Higiene 12x36 Diurno | B29: =B13 -> 1900 | C29: 0 | D29: =B29*C29 -> 0
A30: Cargo C - Serv. Gerais Higiene 12x36 Noturno | B30: =B14 -> 1900 | C30: 0 | D30: =B30*C30 -> 0
A31: Cargo D - Copa/Cozinha 12x36 Diurno | B31: =B15 -> 1961 | C31: 0 | D31: =B31*C31 -> 0
A32: Cargo E - Copa/Cozinha 12x36 Intermediário | B32: =B16 -> 1961 | C32: 0 | D32: =B32*C32 -> 0
A33: Cargo F - Copa/Cozinha 12x36 Noturno | B33: =B17 -> 1961 | C33: 0 | D33: =B33*C33 -> 0
A34: Cargo G - Copa/Cozinha 40h | B34: =B18 -> 1961 | C34: 0 | D34: =B34*C34 -> 0
A35: Cargo H - Serv. Gerais Higiene + Copa 40h | B35: =B19 -> 1727.2727 | C35: =D35/B35 -> 0.075842105 | D35: 131
A36: Cargo I - Supervisor UPA | B36: =B20 -> 3023 | C36: 0 | D36: =B36*C36 -> 0
A37: Cargo J - Supervidor Demais Unidades | B37: =B21 -> 3023 | C37: 0 | D37: =B37*C37 -> 0
A39: ADICIONAIS (periculosidade ou insalubridade, se houver)
A40: * Os adicionais de periculosidade ou insalubridade, em conformidade com os art. 192 e 193 da CLT, dependem da natureza do serviço a ser prestado. * O órgão contrantante deverá observar, além da existência de previsão em CLT, se há informações na Convenção Coletiva de Trabalho acerca dos adicionais, bem como seu percentual e a base de cálculo, devendo adaptar a planilha ao caso em concreto.
A42: ADICIONAL DE INSALUBRIDADE
A43: Categoria | B43: Base de cálculo | C43: Percentual | D43: Valor | E43: Salário Minimo Nacional | G43: 1621
A44: Cargo A - Serv. Gerais Higiene 40h | B44: =$G$43 -> 1621 | C44: 0.2 | D44: =B44*C44 -> 324.2
A45: Cargo B - Serv. Gerais Higiene 12x36 Diurno | B45: =$G$43 -> 1621 | C45: =C44 -> 0.2 | D45: =B45*C45 -> 324.2
A46: Cargo C - Serv. Gerais Higiene 12x36 Noturno | B46: =$G$43 -> 1621 | C46: =C45 -> 0.2 | D46: =B46*C46 -> 324.2
A47: Cargo D - Copa/Cozinha 12x36 Diurno | B47: =$G$43 -> 1621 | C47: =C46 -> 0.2 | D47: =B47*C47 -> 324.2
...

Sheet A - SERV GERAIS HIGIENE 40H
A1: PLANILHA DE CUSTOS E FORMAÇÃO DE PREÇOS
A2: MODELO PARA A CONSOLIDAÇÃO E APRESENTAÇÃO DE PROPOSTAS
A3: Com ajustes após publicação da Lei n° 13.467, de 2017.
A6: Módulo 1 - Composição da Remuneração
A8: 1 | B8: Composição da Remuneração | C8: Valor (R$)
A9: A | B9: Salário-Base | C9: ='Custo por trabalhador'!B12 -> 1727.2727
A10: B | B10: Adicional de Periculosidade | C10: 0
A11: C | B11: Adicional de Insalubridade | C11: ='Custo por trabalhador'!D44 -> 324.2
A12: D | B12: Adicional Noturno | C12: ='Custo por trabalhador'!E61 -> 0
A13: E | B13: Adicional de Hora Noturna Reduzida | C13: ='Custo por trabalhador'!E75 -> 0
A15: G | B15: Outros (especificar) | C15: ='Custo por trabalhador'!D28 -> 0
A16: Total | C16: =SUM(C9:C15) -> 2051.4727
A19: Módulo 2 - Encargos e Benefícios Anuais, Mensais e Diários
A21: Submódulo 2.1 - 13º (décimo terceiro) Salário, Férias e Adicional de Férias
A23: 2.1 | B23: 13º (décimo terceiro) Salário, Férias e Adicional de Férias | C23: Valor (R$)
A24: A | B24: 13º (décimo terceiro) Salário | C24: ='Custo por trabalhador'!D121 -> 170.95606
A25: B | B25: Férias e Adicional de Férias | C25: ='Custo por trabalhador'!D134+'Custo por trabalhador'!E147 -> 227.94141
A26: Total | C26: =SUM(C24:C25) -> 398.89747
A29: Submódulo 2.2 - Encargos Previdenciários (GPS), Fundo de Garantia por Tempo de Serviço (FGTS) e outras contribuições.
A31: 2.2 | B31: GPS, FGTS e outras contribuições | C31: Percentual (%) | D31: Valor (R$)
A32: A | B32: INSS | C32: 0.2 | D32: =(C26+C16)*C32 -> 490.07404
A33: B | B33: Salário Educação | C33: 0.025 | D33: =($C$26+$C$16)*C33 -> 61.259255
A34: C | B34: SAT | C34: ='Custo por trabalhador'!B178 -> 0.03 | D34: =($C$26+$C$16)*C34 -> 73.511106
A35: D | B35: SESC ou SESI | C35: 0.015 | D35: =($C$26+$C$16)*C35 -> 36.755553
A36: E | B36: SENAI - SENAC | C36: 0.01 | D36: =($C$26+$C$16)*C36 -> 24.503702
A37: F | B37: SEBRAE | C37: 0.006 | D37: =($C$26+$C$16)*C37 -> 14.702221
A38: G | B38: INCRA | C38: 0.002 | D38: =($C$26+$C$16)*C38 -> 4.9007404
A39: H | B39: FGTS | C39: 0.08 | D39: =($C$26+$C$16)*C39 -> 196.02962
A40: Total | C40: =SUM(C32:C39) -> 0.368 | D40: =SUM(D32:D39) -> 901.73623
A43: Submódulo 2.3 - Benefícios Mensais e Diários.
A45: 2.3 | B45: Benefícios Mensais e Diários | C45: Valor (R$)
A46: A | B46: Transporte | C46: ='Custo por trabalhador'!B324 -> 116.36364
A47: B | B47: Auxílio-Refeição/Alimentação | C47: ='Custo por trabalhador'!C324 -> 720
A48: C | B48: ='Custo por trabalhador'!D323 -> Auxílio Saúde | C48: ='Custo por trabalhador'!D324 -> 94.5
A49: D | B49: ='Custo por trabalhador'!E323 -> Benefício Social Familiar | C49: ='Custo por trabalhador'!E324 -> 31
A50: E | B50: ='Custo por trabalhador'!F323 -> Fundo de Formação Profissional | C50: ='Custo por trabalhador'!F324 -> 31
A51: Total | C51: =SUM(C46:C50) -> 992.86364
A54: Quadro-Resumo do Módulo 2 - Encargos e Benefícios anuais, mensais e diários
A56: 2 | B56: Encargos e Benefícios Anuais, Mensais e Diários | C56: Valor (R$)
A57: 2.1 | B57: 13º (décimo terceiro) Salário, Férias e Adicional de Férias | C57: =C26 -> 398.89747
...

Sheet B SERV GERAIS HIGIENE 12X36 DIU
A1: PLANILHA DE CUSTOS E FORMAÇÃO DE PREÇOS
A2: MODELO PARA A CONSOLIDAÇÃO E APRESENTAÇÃO DE PROPOSTAS
A3: Com ajustes após publicação da Lei n° 13.467, de 2017.
A6: Módulo 1 - Composição da Remuneração
A8: 1 | B8: Composição da Remuneração | C8: Valor (R$)
A9: A | B9: Salário-Base | C9: ='Custo por trabalhador'!B13 -> 1900
A10: B | B10: Adicional de Periculosidade | C10: 0
A11: C | B11: Adicional de Insalubridade | C11: ='Custo por trabalhador'!D45 -> 324.2
A12: D | B12: Adicional Noturno | C12: ='Custo por trabalhador'!E61 -> 0
A13: E | B13: Adicional de Hora Noturna Reduzida | C13: ='Custo por trabalhador'!E75 -> 0
A15: G | B15: Outros (especificar) | C15: ='Custo por trabalhador'!D28 -> 0
A16: Total | C16: =SUM(C9:C15) -> 2224.2
A19: Módulo 2 - Encargos e Benefícios Anuais, Mensais e Diários
A21: Submódulo 2.1 - 13º (décimo terceiro) Salário, Férias e Adicional de Férias
A23: 2.1 | B23: 13º (décimo terceiro) Salário, Férias e Adicional de Férias | C23: Valor (R$)
A24: A | B24: 13º (décimo terceiro) Salário | C24: ='Custo por trabalhador'!D122 -> 185.35
A25: B | B25: Férias e Adicional de Férias | C25: ='Custo por trabalhador'!D135+'Custo por trabalhador'!E148 -> 247.13333
A26: Total | C26: =SUM(C24:C25) -> 432.48333
A29: Submódulo 2.2 - Encargos Previdenciários (GPS), Fundo de Garantia por Tempo de Serviço (FGTS) e outras contribuições.
A31: 2.2 | B31: GPS, FGTS e outras contribuições | C31: Percentual (%) | D31: Valor (R$)
A32: A | B32: INSS | C32: 0.2 | D32: =(C26+C16)*C32 -> 531.33667
A33: B | B33: Salário Educação | C33: 0.025 | D33: =($C$26+$C$16)*C33 -> 66.417083
A34: C | B34: SAT | C34: ='Custo por trabalhador'!B178 -> 0.03 | D34: =($C$26+$C$16)*C34 -> 79.7005
A35: D | B35: SESC ou SESI | C35: 0.015 | D35: =($C$26+$C$16)*C35 -> 39.85025
A36: E | B36: SENAI - SENAC | C36: 0.01 | D36: =($C$26+$C$16)*C36 -> 26.566833
A37: F | B37: SEBRAE | C37: 0.006 | D37: =($C$26+$C$16)*C37 -> 15.9401
A38: G | B38: INCRA | C38: 0.002 | D38: =($C$26+$C$16)*C38 -> 5.3133667
A39: H | B39: FGTS | C39: 0.08 | D39: =($C$26+$C$16)*C39 -> 212.53467
A40: Total | C40: =SUM(C32:C39) -> 0.368 | D40: =SUM(D32:D39) -> 977.65947
A43: Submódulo 2.3 - Benefícios Mensais e Diários.
A45: 2.3 | B45: Benefícios Mensais e Diários | C45: Valor (R$)
A46: A | B46: Transporte | C46: ='Custo por trabalhador'!D257 -> 93
A47: B | B47: Auxílio-Refeição/Alimentação | C47: ='Custo por trabalhador'!D297 -> 720
A48: C | B48: ='Custo por trabalhador'!D323 -> Auxílio Saúde | C48: ='Custo por trabalhador'!B312 -> 94.5
A49: D | B49: ='Custo por trabalhador'!E323 -> Benefício Social Familiar | C49: ='Custo por trabalhador'!C312 -> 31
A50: E | B50: ='Custo por trabalhador'!F323 -> Fundo de Formação Profissional | C50: ='Custo por trabalhador'!D312 -> 31
A51: Total | C51: =SUM(C46:C50) -> 969.5
A54: Quadro-Resumo do Módulo 2 - Encargos e Benefícios anuais, mensais e diários
A56: 2 | B56: Encargos e Benefícios Anuais, Mensais e Diários | C56: Valor (R$)
A57: 2.1 | B57: 13º (décimo terceiro) Salário, Férias e Adicional de Férias | C57: =C26 -> 432.48333
...

Sheet C SERV GERAIS HIGIENE 12X36 NOT
A1: PLANILHA DE CUSTOS E FORMAÇÃO DE PREÇOS
A2: MODELO PARA A CONSOLIDAÇÃO E APRESENTAÇÃO DE PROPOSTAS
A3: Com ajustes após publicação da Lei n° 13.467, de 2017.
A6: Módulo 1 - Composição da Remuneração
A8: 1 | B8: Composição da Remuneração | C8: Valor (R$)
A9: A | B9: Salário-Base | C9: ='Custo por trabalhador'!B14 -> 1900
A10: B | B10: Adicional de Periculosidade | C10: 0
A11: C | B11: Adicional de Insalubridade | C11: ='Custo por trabalhador'!D46 -> 324.2
A12: D | B12: Adicional Noturno | C12: ='Custo por trabalhador'!E63 -> 259.49
A13: E | B13: Adicional de Hora Noturna Reduzida | C13: ='Custo por trabalhador'!E77 -> 222.42
A15: G | B15: Outros (especificar) | C15: ='Custo por trabalhador'!D30 -> 0
A16: Total | C16: =SUM(C9:C15) -> 2706.11
A19: Módulo 2 - Encargos e Benefícios Anuais, Mensais e Diários
A21: Submódulo 2.1 - 13º (décimo terceiro) Salário, Férias e Adicional de Férias
A23: 2.1 | B23: 13º (décimo terceiro) Salário, Férias e Adicional de Férias | C23: Valor (R$)
A24: A | B24: 13º (décimo terceiro) Salário | C24: ='Custo por trabalhador'!D123 -> 225.50917
A25: B | B25: Férias e Adicional de Férias | C25: ='Custo por trabalhador'!D136+'Custo por trabalhador'!E149 -> 300.67889
A26: Total | C26: =SUM(C24:C25) -> 526.18806
A29: Submódulo 2.2 - Encargos Previdenciários (GPS), Fundo de Garantia por Tempo de Serviço (FGTS) e outras contribuições.
A31: 2.2 | B31: GPS, FGTS e outras contribuições | C31: Percentual (%) | D31: Valor (R$)
A32: A | B32: INSS | C32: 0.2 | D32: =(C26+C16)*C32 -> 646.45961
A33: B | B33: Salário Educação | C33: 0.025 | D33: =($C$26+$C$16)*C33 -> 80.807451
A34: C | B34: SAT | C34: ='Custo por trabalhador'!B178 -> 0.03 | D34: =($C$26+$C$16)*C34 -> 96.968942
A35: D | B35: SESC ou SESI | C35: 0.015 | D35: =($C$26+$C$16)*C35 -> 48.484471
A36: E | B36: SENAI - SENAC | C36: 0.01 | D36: =($C$26+$C$16)*C36 -> 32.322981
A37: F | B37: SEBRAE | C37: 0.006 | D37: =($C$26+$C$16)*C37 -> 19.393788
A38: G | B38: INCRA | C38: 0.002 | D38: =($C$26+$C$16)*C38 -> 6.4645961
A39: H | B39: FGTS | C39: 0.08 | D39: =($C$26+$C$16)*C39 -> 258.58384
A40: Total | C40: =SUM(C32:C39) -> 0.368 | D40: =SUM(D32:D39) -> 1189.4857
A43: Submódulo 2.3 - Benefícios Mensais e Diários.
A45: 2.3 | B45: Benefícios Mensais e Diários | C45: Valor (R$)
A46: A | B46: Transporte | C46: ='Custo por trabalhador'!D258 -> 93
A47: B | B47: Auxílio-Refeição/Alimentação | C47: ='Custo por trabalhador'!D298 -> 720
A48: C | B48: ='Custo por trabalhador'!D323 -> Auxílio Saúde | C48: ='Custo por trabalhador'!B313 -> 94.5
A49: D | B49: ='Custo por trabalhador'!E323 -> Benefício Social Familiar | C49: ='Custo por trabalhador'!C313 -> 31
A50: E | B50: ='Custo por trabalhador'!F323 -> Fundo de Formação Profissional | C50: ='Custo por trabalhador'!D313 -> 31
A51: Total | C51: =SUM(C46:C50) -> 969.5
A54: Quadro-Resumo do Módulo 2 - Encargos e Benefícios anuais, mensais e diários
A56: 2 | B56: Encargos e Benefícios Anuais, Mensais e Diários | C56: Valor (R$)
A57: 2.1 | B57: 13º (décimo terceiro) Salário, Férias e Adicional de Férias | C57: =C26 -> 526.18806
...

Sheet D COPACOZINHA 12X36 DIU
A1: PLANILHA DE CUSTOS E FORMAÇÃO DE PREÇOS
A2: MODELO PARA A CONSOLIDAÇÃO E APRESENTAÇÃO DE PROPOSTAS
A3: Com ajustes após publicação da Lei n° 13.467, de 2017.
A6: Módulo 1 - Composição da Remuneração
A8: 1 | B8: Composição da Remuneração | C8: Valor (R$)
A9: A | B9: Salário-Base | C9: ='Custo por trabalhador'!B15 -> 1961
A10: B | B10: Adicional de Periculosidade | C10: 0
A11: C | B11: Adicional de Insalubridade | C11: ='Custo por trabalhador'!D47 -> 324.2
A12: D | B12: Adicional Noturno | C12: ='Custo por trabalhador'!E64 -> 0
A13: E | B13: Adicional de Hora Noturna Reduzida | C13: ='Custo por trabalhador'!E78 -> 0
A15: G | B15: Outros (especificar) | C15: ='Custo por trabalhador'!D30 -> 0
A16: Total | C16: =SUM(C9:C15) -> 2285.2
A19: Módulo 2 - Encargos e Benefícios Anuais, Mensais e Diários
A21: Submódulo 2.1 - 13º (décimo terceiro) Salário, Férias e Adicional de Férias
A23: 2.1 | B23: 13º (décimo terceiro) Salário, Férias e Adicional de Férias | C23: Valor (R$)
A24: A | B24: 13º (décimo terceiro) Salário | C24: ='Custo por trabalhador'!D124 -> 190.43333
A25: B | B25: Férias e Adicional de Férias | C25: ='Custo por trabalhador'!D137+'Custo por trabalhador'!E150 -> 253.91111
A26: Total | C26: =SUM(C24:C25) -> 444.34444
A29: Submódulo 2.2 - Encargos Previdenciários (GPS), Fundo de Garantia por Tempo de Serviço (FGTS) e outras contribuições.
A31: 2.2 | B31: GPS, FGTS e outras contribuições | C31: Percentual (%) | D31: Valor (R$)
A32: A | B32: INSS | C32: 0.2 | D32: =(C26+C16)*C32 -> 545.90889
A33: B | B33: Salário Educação | C33: 0.025 | D33: =($C$26+$C$16)*C33 -> 68.238611
A34: C | B34: SAT | C34: ='Custo por trabalhador'!B178 -> 0.03 | D34: =($C$26+$C$16)*C34 -> 81.886333
A35: D | B35: SESC ou SESI | C35: 0.015 | D35: =($C$26+$C$16)*C35 -> 40.943167
A36: E | B36: SENAI - SENAC | C36: 0.01 | D36: =($C$26+$C$16)*C36 -> 27.295444
A37: F | B37: SEBRAE | C37: 0.006 | D37: =($C$26+$C$16)*C37 -> 16.377267
A38: G | B38: INCRA | C38: 0.002 | D38: =($C$26+$C$16)*C38 -> 5.4590889
A39: H | B39: FGTS | C39: 0.08 | D39: =($C$26+$C$16)*C39 -> 218.36356
A40: Total | C40: =SUM(C32:C39) -> 0.368 | D40: =SUM(D32:D39) -> 1004.4724
A43: Submódulo 2.3 - Benefícios Mensais e Diários.
A45: 2.3 | B45: Benefícios Mensais e Diários | C45: Valor (R$)
A46: A | B46: Transporte | C46: ='Custo por trabalhador'!D259 -> 91.17
A47: B | B47: Auxílio-Refeição/Alimentação | C47: ='Custo por trabalhador'!D299 -> 720
A48: C | B48: ='Custo por trabalhador'!D323 -> Auxílio Saúde | C48: ='Custo por trabalhador'!B314 -> 94.5
A49: D | B49: ='Custo por trabalhador'!E323 -> Benefício Social Familiar | C49: ='Custo por trabalhador'!C314 -> 31
A50: E | B50: ='Custo por trabalhador'!F323 -> Fundo de Formação Profissional | C50: ='Custo por trabalhador'!D314 -> 31
A51: Total | C51: =SUM(C46:C50) -> 967.67
A54: Quadro-Resumo do Módulo 2 - Encargos e Benefícios anuais, mensais e diários
A56: 2 | B56: Encargos e Benefícios Anuais, Mensais e Diários | C56: Valor (R$)
A57: 2.1 | B57: 13º (décimo terceiro) Salário, Férias e Adicional de Férias | C57: =C26 -> 444.34444
...

Sheet E COPACOZINHA 12X36 INTERMEDIAR
A1: PLANILHA DE CUSTOS E FORMAÇÃO DE PREÇOS
A2: MODELO PARA A CONSOLIDAÇÃO E APRESENTAÇÃO DE PROPOSTAS
A3: Com ajustes após publicação da Lei n° 13.467, de 2017.
A6: Módulo 1 - Composição da Remuneração
A8: 1 | B8: Composição da Remuneração | C8: Valor (R$)
A9: A | B9: Salário-Base | C9: ='Custo por trabalhador'!B16 -> 1961
A10: B | B10: Adicional de Periculosidade | C10: 0
A11: C | B11: Adicional de Insalubridade | C11: ='Custo por trabalhador'!D48 -> 324.2
A12: D | B12: Adicional Noturno | C12: ='Custo por trabalhador'!E65 -> 0
A13: E | B13: Adicional de Hora Noturna Reduzida | C13: ='Custo por trabalhador'!E79 -> 0
A15: G | B15: Outros (especificar) | C15: ='Custo por trabalhador'!D30 -> 0
A16: Total | C16: =SUM(C9:C15) -> 2285.2
A19: Módulo 2 - Encargos e Benefícios Anuais, Mensais e Diários
A21: Submódulo 2.1 - 13º (décimo terceiro) Salário, Férias e Adicional de Férias
A23: 2.1 | B23: 13º (décimo terceiro) Salário, Férias e Adicional de Férias | C23: Valor (R$)
A24: A | B24: 13º (décimo terceiro) Salário | C24: ='Custo por trabalhador'!D125 -> 190.43333
A25: B | B25: Férias e Adicional de Férias | C25: ='Custo por trabalhador'!D138+'Custo por trabalhador'!E151 -> 253.91111
A26: Total | C26: =SUM(C24:C25) -> 444.34444
A29: Submódulo 2.2 - Encargos Previdenciários (GPS), Fundo de Garantia por Tempo de Serviço (FGTS) e outras contribuições.
A31: 2.2 | B31: GPS, FGTS e outras contribuições | C31: Percentual (%) | D31: Valor (R$)
A32: A | B32: INSS | C32: 0.2 | D32: =(C26+C16)*C32 -> 545.90889
A33: B | B33: Salário Educação | C33: 0.025 | D33: =($C$26+$C$16)*C33 -> 68.238611
A34: C | B34: SAT | C34: ='Custo por trabalhador'!B178 -> 0.03 | D34: =($C$26+$C$16)*C34 -> 81.886333
A35: D | B35: SESC ou SESI | C35: 0.015 | D35: =($C$26+$C$16)*C35 -> 40.943167
A36: E | B36: SENAI - SENAC | C36: 0.01 | D36: =($C$26+$C$16)*C36 -> 27.295444
A37: F | B37: SEBRAE | C37: 0.006 | D37: =($C$26+$C$16)*C37 -> 16.377267
A38: G | B38: INCRA | C38: 0.002 | D38: =($C$26+$C$16)*C38 -> 5.4590889
A39: H | B39: FGTS | C39: 0.08 | D39: =($C$26+$C$16)*C39 -> 218.36356
A40: Total | C40: =SUM(C32:C39) -> 0.368 | D40: =SUM(D32:D39) -> 1004.4724
A43: Submódulo 2.3 - Benefícios Mensais e Diários.
A45: 2.3 | B45: Benefícios Mensais e Diários | C45: Valor (R$)
A46: A | B46: Transporte | C46: ='Custo por trabalhador'!D260 -> 91.17
A47: B | B47: Auxílio-Refeição/Alimentação | C47: ='Custo por trabalhador'!D300 -> 720
A48: C | B48: ='Custo por trabalhador'!D323 -> Auxílio Saúde | C48: ='Custo por trabalhador'!B315 -> 94.5
A49: D | B49: ='Custo por trabalhador'!E323 -> Benefício Social Familiar | C49: ='Custo por trabalhador'!C315 -> 31
A50: E | B50: ='Custo por trabalhador'!F323 -> Fundo de Formação Profissional | C50: ='Custo por trabalhador'!D316 -> 31
A51: Total | C51: =SUM(C46:C50) -> 967.67
A54: Quadro-Resumo do Módulo 2 - Encargos e Benefícios anuais, mensais e diários
A56: 2 | B56: Encargos e Benefícios Anuais, Mensais e Diários | C56: Valor (R$)
A57: 2.1 | B57: 13º (décimo terceiro) Salário, Férias e Adicional de Férias | C57: =C26 -> 444.34444
...

Sheet F COPACOZINHA 12X36 NOTURNO
A1: PLANILHA DE CUSTOS E FORMAÇÃO DE PREÇOS
A2: MODELO PARA A CONSOLIDAÇÃO E APRESENTAÇÃO DE PROPOSTAS
A3: Com ajustes após publicação da Lei n° 13.467, de 2017.
A6: Módulo 1 - Composição da Remuneração
A8: 1 | B8: Composição da Remuneração | C8: Valor (R$)
A9: A | B9: Salário-Base | C9: ='Custo por trabalhador'!B17 -> 1961
A10: B | B10: Adicional de Periculosidade | C10: 0
A11: C | B11: Adicional de Insalubridade | C11: ='Custo por trabalhador'!D49 -> 324.2
A12: D | B12: Adicional Noturno | C12: ='Custo por trabalhador'!E66 -> 114.26
A13: E | B13: Adicional de Hora Noturna Reduzida | C13: ='Custo por trabalhador'!E80 -> 97.937143
A15: G | B15: Outros (especificar) | C15: ='Custo por trabalhador'!D30 -> 0
A16: Total | C16: =SUM(C9:C15) -> 2497.3971
A19: Módulo 2 - Encargos e Benefícios Anuais, Mensais e Diários
A21: Submódulo 2.1 - 13º (décimo terceiro) Salário, Férias e Adicional de Férias
A23: 2.1 | B23: 13º (décimo terceiro) Salário, Férias e Adicional de Férias | C23: Valor (R$)
A24: A | B24: 13º (décimo terceiro) Salário | C24: ='Custo por trabalhador'!D126 -> 208.11643
A25: B | B25: Férias e Adicional de Férias | C25: ='Custo por trabalhador'!D139+'Custo por trabalhador'!E152 -> 277.48857
A26: Total | C26: =SUM(C24:C25) -> 485.605
A29: Submódulo 2.2 - Encargos Previdenciários (GPS), Fundo de Garantia por Tempo de Serviço (FGTS) e outras contribuições.
A31: 2.2 | B31: GPS, FGTS e outras contribuições | C31: Percentual (%) | D31: Valor (R$)
A32: A | B32: INSS | C32: 0.2 | D32: =(C26+C16)*C32 -> 596.60043
A33: B | B33: Salário Educação | C33: 0.025 | D33: =($C$26+$C$16)*C33 -> 74.575054
A34: C | B34: SAT | C34: ='Custo por trabalhador'!B178 -> 0.03 | D34: =($C$26+$C$16)*C34 -> 89.490064
A35: D | B35: SESC ou SESI | C35: 0.015 | D35: =($C$26+$C$16)*C35 -> 44.745032
A36: E | B36: SENAI - SENAC | C36: 0.01 | D36: =($C$26+$C$16)*C36 -> 29.830021
A37: F | B37: SEBRAE | C37: 0.006 | D37: =($C$26+$C$16)*C37 -> 17.898013
A38: G | B38: INCRA | C38: 0.002 | D38: =($C$26+$C$16)*C38 -> 5.9660043
A39: H | B39: FGTS | C39: 0.08 | D39: =($C$26+$C$16)*C39 -> 238.64017
A40: Total | C40: =SUM(C32:C39) -> 0.368 | D40: =SUM(D32:D39) -> 1097.7448
A43: Submódulo 2.3 - Benefícios Mensais e Diários.
A45: 2.3 | B45: Benefícios Mensais e Diários | C45: Valor (R$)
A46: A | B46: Transporte | C46: ='Custo por trabalhador'!D261 -> 91.17
A47: B | B47: Auxílio-Refeição/Alimentação | C47: ='Custo por trabalhador'!D301 -> 720
A48: C | B48: ='Custo por trabalhador'!D323 -> Auxílio Saúde | C48: ='Custo por trabalhador'!B316 -> 94.5
A49: D | B49: ='Custo por trabalhador'!E323 -> Benefício Social Familiar | C49: ='Custo por trabalhador'!C316 -> 31
A50: E | B50: ='Custo por trabalhador'!F323 -> Fundo de Formação Profissional | C50: ='Custo por trabalhador'!D316 -> 31
A51: Total | C51: =SUM(C46:C50) -> 967.67
A54: Quadro-Resumo do Módulo 2 - Encargos e Benefícios anuais, mensais e diários
A56: 2 | B56: Encargos e Benefícios Anuais, Mensais e Diários | C56: Valor (R$)
A57: 2.1 | B57: 13º (décimo terceiro) Salário, Férias e Adicional de Férias | C57: =C26 -> 485.605
...

Sheet G COPACOZINHA 40H
A1: PLANILHA DE CUSTOS E FORMAÇÃO DE PREÇOS
A2: MODELO PARA A CONSOLIDAÇÃO E APRESENTAÇÃO DE PROPOSTAS
A3: Com ajustes após publicação da Lei n° 13.467, de 2017.
A6: Módulo 1 - Composição da Remuneração
A8: 1 | B8: Composição da Remuneração | C8: Valor (R$)
A9: A | B9: Salário-Base | C9: ='Custo por trabalhador'!B18 -> 1961
A10: B | B10: Adicional de Periculosidade | C10: 0
A11: C | B11: Adicional de Insalubridade | C11: ='Custo por trabalhador'!D50 -> 324.2
A12: D | B12: Adicional Noturno | C12: ='Custo por trabalhador'!E61 -> 0
A13: E | B13: Adicional de Hora Noturna Reduzida | C13: ='Custo por trabalhador'!E75 -> 0
A15: G | B15: Outros (especificar) | C15: ='Custo por trabalhador'!D28 -> 0
A16: Total | C16: =SUM(C9:C15) -> 2285.2
A19: Módulo 2 - Encargos e Benefícios Anuais, Mensais e Diários
A21: Submódulo 2.1 - 13º (décimo terceiro) Salário, Férias e Adicional de Férias
A23: 2.1 | B23: 13º (décimo terceiro) Salário, Férias e Adicional de Férias | C23: Valor (R$)
A24: A | B24: 13º (décimo terceiro) Salário | C24: ='Custo por trabalhador'!D127 -> 190.43333
A25: B | B25: Férias e Adicional de Férias | C25: ='Custo por trabalhador'!C166+'Custo por trabalhador'!D166 -> 253.91111
A26: Total | C26: =SUM(C24:C25) -> 444.34444
A29: Submódulo 2.2 - Encargos Previdenciários (GPS), Fundo de Garantia por Tempo de Serviço (FGTS) e outras contribuições.
A31: 2.2 | B31: GPS, FGTS e outras contribuições | C31: Percentual (%) | D31: Valor (R$)
A32: A | B32: INSS | C32: 0.2 | D32: =(C26+C16)*C32 -> 545.90889
A33: B | B33: Salário Educação | C33: 0.025 | D33: =($C$26+$C$16)*C33 -> 68.238611
A34: C | B34: SAT | C34: ='Custo por trabalhador'!B178 -> 0.03 | D34: =($C$26+$C$16)*C34 -> 81.886333
A35: D | B35: SESC ou SESI | C35: 0.015 | D35: =($C$26+$C$16)*C35 -> 40.943167
A36: E | B36: SENAI - SENAC | C36: 0.01 | D36: =($C$26+$C$16)*C36 -> 27.295444
A37: F | B37: SEBRAE | C37: 0.006 | D37: =($C$26+$C$16)*C37 -> 16.377267
A38: G | B38: INCRA | C38: 0.002 | D38: =($C$26+$C$16)*C38 -> 5.4590889
A39: H | B39: FGTS | C39: 0.08 | D39: =($C$26+$C$16)*C39 -> 218.36356
A40: Total | C40: =SUM(C32:C39) -> 0.368 | D40: =SUM(D32:D39) -> 1004.4724
A43: Submódulo 2.3 - Benefícios Mensais e Diários.
A45: 2.3 | B45: Benefícios Mensais e Diários | C45: Valor (R$)
A46: A | B46: Transporte | C46: ='Custo por trabalhador'!D261 -> 91.17
A47: B | B47: Auxílio-Refeição/Alimentação | C47: ='Custo por trabalhador'!D301 -> 720
A48: C | B48: ='Custo por trabalhador'!D323 -> Auxílio Saúde | C48: ='Custo por trabalhador'!B317 -> 94.5
A49: D | B49: ='Custo por trabalhador'!E323 -> Benefício Social Familiar | C49: ='Custo por trabalhador'!C317 -> 31
A50: E | B50: ='Custo por trabalhador'!F323 -> Fundo de Formação Profissional | C50: ='Custo por trabalhador'!D317 -> 31
A51: Total | C51: =SUM(C46:C50) -> 967.67
A54: Quadro-Resumo do Módulo 2 - Encargos e Benefícios anuais, mensais e diários
A56: 2 | B56: Encargos e Benefícios Anuais, Mensais e Diários | C56: Valor (R$)
A57: 2.1 | B57: 13º (décimo terceiro) Salário, Férias e Adicional de Férias | C57: =C26 -> 444.34444
...

Sheet H SERV GERAIS HIGI COPA 40H
A1: PLANILHA DE CUSTOS E FORMAÇÃO DE PREÇOS
A2: MODELO PARA A CONSOLIDAÇÃO E APRESENTAÇÃO DE PROPOSTAS
A3: Com ajustes após publicação da Lei n° 13.467, de 2017.
A6: Módulo 1 - Composição da Remuneração
A8: 1 | B8: Composição da Remuneração | C8: Valor (R$)
A9: A | B9: Salário-Base | C9: ='Custo por trabalhador'!B19 -> 1727.2727
A10: B | B10: Adicional de Periculosidade | C10: 0
A11: C | B11: Adicional de Insalubridade | C11: ='Custo por trabalhador'!D51 -> 324.2
A12: D | B12: Adicional Noturno | C12: ='Custo por trabalhador'!E61 -> 0
A13: E | B13: Adicional de Hora Noturna Reduzida | C13: ='Custo por trabalhador'!E75 -> 0
A15: G | B15: Outros (Gratificação Função COPA) | C15: ='Custo por trabalhador'!D35 -> 131
A16: Total | C16: =SUM(C9:C15) -> 2182.4727
A19: Módulo 2 - Encargos e Benefícios Anuais, Mensais e Diários
A21: Submódulo 2.1 - 13º (décimo terceiro) Salário, Férias e Adicional de Férias
A23: 2.1 | B23: 13º (décimo terceiro) Salário, Férias e Adicional de Férias | C23: Valor (R$)
A24: A | B24: 13º (décimo terceiro) Salário | C24: ='Custo por trabalhador'!D128 -> 181.87273
A25: B | B25: Férias e Adicional de Férias | C25: ='Custo por trabalhador'!D141+'Custo por trabalhador'!E154 -> 242.49697
A26: Total | C26: =SUM(C24:C25) -> 424.3697
A29: Submódulo 2.2 - Encargos Previdenciários (GPS), Fundo de Garantia por Tempo de Serviço (FGTS) e outras contribuições.
A31: 2.2 | B31: GPS, FGTS e outras contribuições | C31: Percentual (%) | D31: Valor (R$)
A32: A | B32: INSS | C32: 0.2 | D32: =(C26+C16)*C32 -> 521.36848
A33: B | B33: Salário Educação | C33: 0.025 | D33: =($C$26+$C$16)*C33 -> 65.171061
A34: C | B34: SAT | C34: ='Custo por trabalhador'!B178 -> 0.03 | D34: =($C$26+$C$16)*C34 -> 78.205273
A35: D | B35: SESC ou SESI | C35: 0.015 | D35: =($C$26+$C$16)*C35 -> 39.102636
A36: E | B36: SENAI - SENAC | C36: 0.01 | D36: =($C$26+$C$16)*C36 -> 26.068424
A37: F | B37: SEBRAE | C37: 0.006 | D37: =($C$26+$C$16)*C37 -> 15.641055
A38: G | B38: INCRA | C38: 0.002 | D38: =($C$26+$C$16)*C38 -> 5.2136848
A39: H | B39: FGTS | C39: 0.08 | D39: =($C$26+$C$16)*C39 -> 208.54739
A40: Total | C40: =SUM(C32:C39) -> 0.368 | D40: =SUM(D32:D39) -> 959.31801
A43: Submódulo 2.3 - Benefícios Mensais e Diários.
A45: 2.3 | B45: Benefícios Mensais e Diários | C45: Valor (R$)
A46: A | B46: Transporte | C46: ='Custo por trabalhador'!D263 -> 116.36364
A47: B | B47: Auxílio-Refeição/Alimentação | C47: ='Custo por trabalhador'!D303 -> 720
A48: C | B48: ='Custo por trabalhador'!D323 -> Auxílio Saúde | C48: ='Custo por trabalhador'!B318 -> 94.5
A49: D | B49: ='Custo por trabalhador'!E323 -> Benefício Social Familiar | C49: ='Custo por trabalhador'!C318 -> 31
A50: E | B50: ='Custo por trabalhador'!F323 -> Fundo de Formação Profissional | C50: ='Custo por trabalhador'!D318 -> 31
A51: Total | C51: =SUM(C46:C50) -> 992.86364
A54: Quadro-Resumo do Módulo 2 - Encargos e Benefícios anuais, mensais e diários
A56: 2 | B56: Encargos e Benefícios Anuais, Mensais e Diários | C56: Valor (R$)
A57: 2.1 | B57: 13º (décimo terceiro) Salário, Férias e Adicional de Férias | C57: =C26 -> 424.3697
...

Sheet I SUPERVISOR UPA
A1: PLANILHA DE CUSTOS E FORMAÇÃO DE PREÇOS
A2: MODELO PARA A CONSOLIDAÇÃO E APRESENTAÇÃO DE PROPOSTAS
A3: Com ajustes após publicação da Lei n° 13.467, de 2017.
A6: Módulo 1 - Composição da Remuneração
A8: 1 | B8: Composição da Remuneração | C8: Valor (R$)
A9: A | B9: Salário-Base | C9: ='Custo por trabalhador'!B20 -> 3023
A10: B | B10: Adicional de Periculosidade | C10: 0
A11: C | B11: Adicional de Insalubridade | C11: ='Custo por trabalhador'!D52 -> 324.2
A12: D | B12: Adicional Noturno | C12: ='Custo por trabalhador'!E61 -> 0
A13: E | B13: Adicional de Hora Noturna Reduzida | C13: ='Custo por trabalhador'!E75 -> 0
A15: G | B15: Outros (especificar) | C15: ='Custo por trabalhador'!D28 -> 0
A16: Total | C16: =SUM(C9:C15) -> 3347.2
A19: Módulo 2 - Encargos e Benefícios Anuais, Mensais e Diários
A21: Submódulo 2.1 - 13º (décimo terceiro) Salário, Férias e Adicional de Férias
A23: 2.1 | B23: 13º (décimo terceiro) Salário, Férias e Adicional de Férias | C23: Valor (R$)
A24: A | B24: 13º (décimo terceiro) Salário | C24: ='Custo por trabalhador'!D129 -> 278.93333
A25: B | B25: Férias e Adicional de Férias | C25: ='Custo por trabalhador'!D142+'Custo por trabalhador'!E155 -> 371.91111
A26: Total | C26: =SUM(C24:C25) -> 650.84444
A29: Submódulo 2.2 - Encargos Previdenciários (GPS), Fundo de Garantia por Tempo de Serviço (FGTS) e outras contribuições.
A31: 2.2 | B31: GPS, FGTS e outras contribuições | C31: Percentual (%) | D31: Valor (R$)
A32: A | B32: INSS | C32: 0.2 | D32: =(C26+C16)*C32 -> 799.60889
A33: B | B33: Salário Educação | C33: 0.025 | D33: =($C$26+$C$16)*C33 -> 99.951111
A34: C | B34: SAT | C34: ='Custo por trabalhador'!B178 -> 0.03 | D34: =($C$26+$C$16)*C34 -> 119.94133
A35: D | B35: SESC ou SESI | C35: 0.015 | D35: =($C$26+$C$16)*C35 -> 59.970667
A36: E | B36: SENAI - SENAC | C36: 0.01 | D36: =($C$26+$C$16)*C36 -> 39.980444
A37: F | B37: SEBRAE | C37: 0.006 | D37: =($C$26+$C$16)*C37 -> 23.988267
A38: G | B38: INCRA | C38: 0.002 | D38: =($C$26+$C$16)*C38 -> 7.9960889
A39: H | B39: FGTS | C39: 0.08 | D39: =($C$26+$C$16)*C39 -> 319.84356
A40: Total | C40: =SUM(C32:C39) -> 0.368 | D40: =SUM(D32:D39) -> 1471.2804
A43: Submódulo 2.3 - Benefícios Mensais e Diários.
A45: 2.3 | B45: Benefícios Mensais e Diários | C45: Valor (R$)
A46: A | B46: Transporte | C46: ='Custo por trabalhador'!D264 -> 38.62
A47: B | B47: Auxílio-Refeição/Alimentação | C47: ='Custo por trabalhador'!D304 -> 720
A48: C | B48: ='Custo por trabalhador'!D323 -> Auxílio Saúde | C48: ='Custo por trabalhador'!B319 -> 94.5
A49: D | B49: ='Custo por trabalhador'!E323 -> Benefício Social Familiar | C49: ='Custo por trabalhador'!C319 -> 31
A50: E | B50: ='Custo por trabalhador'!F323 -> Fundo de Formação Profissional | C50: ='Custo por trabalhador'!D319 -> 31
A51: Total | C51: =SUM(C46:C50) -> 915.12
A54: Quadro-Resumo do Módulo 2 - Encargos e Benefícios anuais, mensais e diários
A56: 2 | B56: Encargos e Benefícios Anuais, Mensais e Diários | C56: Valor (R$)
A57: 2.1 | B57: 13º (décimo terceiro) Salário, Férias e Adicional de Férias | C57: =C26 -> 650.84444
...

Sheet J SUPERVISOR DEMAIS UNIDADES
A1: PLANILHA DE CUSTOS E FORMAÇÃO DE PREÇOS
A2: MODELO PARA A CONSOLIDAÇÃO E APRESENTAÇÃO DE PROPOSTAS
A3: Com ajustes após publicação da Lei n° 13.467, de 2017.
A6: Módulo 1 - Composição da Remuneração
A8: 1 | B8: Composição da Remuneração | C8: Valor (R$)
A9: A | B9: Salário-Base | C9: ='Custo por trabalhador'!B21 -> 3023
A10: B | B10: Adicional de Periculosidade | C10: 0
A11: C | B11: Adicional de Insalubridade | C11: ='Custo por trabalhador'!D53 -> 324.2
A12: D | B12: Adicional Noturno | C12: ='Custo por trabalhador'!E61 -> 0
A13: E | B13: Adicional de Hora Noturna Reduzida | C13: ='Custo por trabalhador'!E75 -> 0
A15: G | B15: Outros (especificar) | C15: ='Custo por trabalhador'!D28 -> 0
A16: Total | C16: =SUM(C9:C15) -> 3347.2
A19: Módulo 2 - Encargos e Benefícios Anuais, Mensais e Diários
A21: Submódulo 2.1 - 13º (décimo terceiro) Salário, Férias e Adicional de Férias
A23: 2.1 | B23: 13º (décimo terceiro) Salário, Férias e Adicional de Férias | C23: Valor (R$)
A24: A | B24: 13º (décimo terceiro) Salário | C24: ='Custo por trabalhador'!D130 -> 278.93333
A25: B | B25: Férias e Adicional de Férias | C25: ='Custo por trabalhador'!D143+'Custo por trabalhador'!E156 -> 371.91111
A26: Total | C26: =SUM(C24:C25) -> 650.84444
A29: Submódulo 2.2 - Encargos Previdenciários (GPS), Fundo de Garantia por Tempo de Serviço (FGTS) e outras contribuições.
A31: 2.2 | B31: GPS, FGTS e outras contribuições | C31: Percentual (%) | D31: Valor (R$)
A32: A | B32: INSS | C32: 0.2 | D32: =(C26+C16)*C32 -> 799.60889
A33: B | B33: Salário Educação | C33: 0.025 | D33: =($C$26+$C$16)*C33 -> 99.951111
A34: C | B34: SAT | C34: ='Custo por trabalhador'!B178 -> 0.03 | D34: =($C$26+$C$16)*C34 -> 119.94133
A35: D | B35: SESC ou SESI | C35: 0.015 | D35: =($C$26+$C$16)*C35 -> 59.970667
A36: E | B36: SENAI - SENAC | C36: 0.01 | D36: =($C$26+$C$16)*C36 -> 39.980444
A37: F | B37: SEBRAE | C37: 0.006 | D37: =($C$26+$C$16)*C37 -> 23.988267
A38: G | B38: INCRA | C38: 0.002 | D38: =($C$26+$C$16)*C38 -> 7.9960889
A39: H | B39: FGTS | C39: 0.08 | D39: =($C$26+$C$16)*C39 -> 319.84356
A40: Total | C40: =SUM(C32:C39) -> 0.368 | D40: =SUM(D32:D39) -> 1471.2804
A43: Submódulo 2.3 - Benefícios Mensais e Diários.
A45: 2.3 | B45: Benefícios Mensais e Diários | C45: Valor (R$)
A46: A | B46: Transporte | C46: ='Custo por trabalhador'!D265 -> 38.62
A47: B | B47: Auxílio-Refeição/Alimentação | C47: ='Custo por trabalhador'!D305 -> 720
A48: C | B48: ='Custo por trabalhador'!D323 -> Auxílio Saúde | C48: ='Custo por trabalhador'!B320 -> 94.5
A49: D | B49: ='Custo por trabalhador'!E323 -> Benefício Social Familiar | C49: ='Custo por trabalhador'!C320 -> 31
A50: E | B50: ='Custo por trabalhador'!F323 -> Fundo de Formação Profissional | C50: ='Custo por trabalhador'!D320 -> 31
A51: Total | C51: =SUM(C46:C50) -> 915.12
A54: Quadro-Resumo do Módulo 2 - Encargos e Benefícios anuais, mensais e diários
A56: 2 | B56: Encargos e Benefícios Anuais, Mensais e Diários | C56: Valor (R$)
A57: 2.1 | B57: 13º (décimo terceiro) Salário, Férias e Adicional de Férias | C57: =C26 -> 650.84444
...
